BEGIN:VCALENDAR
VERSION:2.0
PRODID:-//Navy League Memphis - ECPv6.15.14//NONSGML v1.0//EN
CALSCALE:GREGORIAN
METHOD:PUBLISH
X-WR-CALNAME:Navy League Memphis
X-ORIGINAL-URL:https://navyleaguememphis.org
X-WR-CALDESC:Events for Navy League Memphis
REFRESH-INTERVAL;VALUE=DURATION:PT1H
X-Robots-Tag:noindex
X-PUBLISHED-TTL:PT1H
BEGIN:VTIMEZONE
TZID:UTC
BEGIN:STANDARD
TZOFFSETFROM:+0000
TZOFFSETTO:+0000
TZNAME:UTC
DTSTART:20250101T000000
END:STANDARD
END:VTIMEZONE
BEGIN:VEVENT
DTSTART;TZID=UTC:20260422T180000
DTEND;TZID=UTC:20260422T210000
DTSTAMP:20260422T013619
CREATED:20231211T163241Z
LAST-MODIFIED:20260417T142134Z
UID:4281-1776880800-1776891600@navyleaguememphis.org
SUMMARY:Spring Awards Banquet Honoring Mid-South Best-of-the-Best
DESCRIPTION:Spring Awards Banquet Honoring Mid-South Best-of-the-Best\nEach April\, Navy League Memphis and patriotic citizens honor the “best-of-the-best” in the Mid-South Sea Services – Navy\, Marine Corps and Coast Guard – at a wonderful banquet!  Charles J. Beech Scholarships are also presented to NROTC Midshipmen from the University of Memphis and the University of Mississippi.  The Richard S. Grant Honor Graduate Award and sword are also presented to deserving First Class Midshipmen at each school.  Please join us to honor those who serve our great nation above and beyond the call of duty. \nWednesday\, April 22\, 2026 – RSVPs have CLOSED for this event\nGuest Speaker:Force Master Chief William P. Houlihan\, Navy Personnel Command\nLocation:Memphis Country Club\, 600 Goodwyn Street\, Memphis\nMeet & Greet: 6:00 p.m.Dinner: 7:00 p.m.\nMilitary Awardees and Scholarship Recipients\, please RSVP to: NLMemphisTN@gmail.com\nAll Other Attendees\, please purchase your ticket below:\nNavy League Members\n$50\n \n\n\n \n\n\n\n\nName of Attendee(s)\n\n\n\n\n\n\n\n\n\nNon-Navy League/Civilian\n$65\n \n\n\n \n\n\n\n\nName of Attendee\n\n\n\n\n\n\n\n\n\n\n \n		 \nActive Duty Military\n$35\n \n\n\n \n\n\n\n\nName of Attendee(s)\n\n\n\n\n\n\n\n\n\nSponsor\nSponsor a Sailor/Marine/Coast Guardsman/NROTC Midshipman​ \n$65
URL:https://navyleaguememphis.org/event/spring-awards-banquet-2/
LOCATION:Memphis Country Club\, 600 Goodwyn Street\, Memphis\, TN\, United States
CATEGORIES:Upcoming Events
ATTACH;FMTTYPE=image/jpeg:https://navyleaguememphis.org/wp-content/uploads/2023/12/Honor-Graduate.jpg
END:VEVENT
END:VCALENDAR